BEGIN:VCALENDAR
VERSION:2.0
PRODID:-//Outsourced HR Solutions LLC - ECPv6.15.10//NONSGML v1.0//EN
CALSCALE:GREGORIAN
METHOD:PUBLISH
X-ORIGINAL-URL:https://outsourcedhrsolutionsny.com
X-WR-CALDESC:Events for Outsourced HR Solutions LLC
REFRESH-INTERVAL;VALUE=DURATION:PT1H
X-Robots-Tag:noindex
X-PUBLISHED-TTL:PT1H
BEGIN:VTIMEZONE
TZID:America/Edmonton
BEGIN:DAYLIGHT
TZOFFSETFROM:-0700
TZOFFSETTO:-0600
TZNAME:MDT
DTSTART:20180311T090000
END:DAYLIGHT
BEGIN:STANDARD
TZOFFSETFROM:-0600
TZOFFSETTO:-0700
TZNAME:MST
DTSTART:20181104T080000
END:STANDARD
BEGIN:DAYLIGHT
TZOFFSETFROM:-0700
TZOFFSETTO:-0600
TZNAME:MDT
DTSTART:20190310T090000
END:DAYLIGHT
BEGIN:STANDARD
TZOFFSETFROM:-0600
TZOFFSETTO:-0700
TZNAME:MST
DTSTART:20191103T080000
END:STANDARD
BEGIN:DAYLIGHT
TZOFFSETFROM:-0700
TZOFFSETTO:-0600
TZNAME:MDT
DTSTART:20200308T090000
END:DAYLIGHT
BEGIN:STANDARD
TZOFFSETFROM:-0600
TZOFFSETTO:-0700
TZNAME:MST
DTSTART:20201101T080000
END:STANDARD
END:VTIMEZONE
BEGIN:VEVENT
DTSTART;TZID=America/Edmonton:20191204T083000
DTEND;TZID=America/Edmonton:20191204T170000
DTSTAMP:20260423T181023
CREATED:20190915T155042Z
LAST-MODIFIED:20191022T195131Z
UID:2504-1575448200-1575478800@outsourcedhrsolutionsny.com
SUMMARY:New Manager Training
DESCRIPTION:THE NEWLY HIRED SUPERVISOR/MANAGER\nEmployees progressively move throughout companies without the proper training when they are elevated to a Managerial position. This course provides:\nHR Essentials Part One\nThis course teaches the employee how to ask appropriate questions during an interview without violating candidate rights and creating liability with their interview practices.\nHR Essentials Part Two\nHR Essentials Part Two covers NYS and NYC overview of employment law to ensure employee rights are not violated with disciplinary actions while managing their time\, attendance\, leave of absences\, accommodations and other protections.\nPeople Management Part Three\nPeople Management is a great addition to the newly hired Manager training because we review how to properly counsel\, document\, and encourage positive behavior for improvement.\nEmployee Empowerment\nThe final phase of this training is to empower employees to be at their best and build positive professional relationships with your team.
URL:https://outsourcedhrsolutionsny.com/event/new-manager-training/
LOCATION:Melville Marriott\, 1350 Walt Whitman Rd\, Melville\, NY\, 11747\, United States
END:VEVENT
END:VCALENDAR